BEGIN:VCALENDAR
VERSION:2.0
PRODID:icalendar-ruby
CALSCALE:GREGORIAN
BEGIN:VEVENT
DTSTAMP:20260423T220110Z
UID:ceefbe15-c54b-48a9-add6-db5156a95878
DTSTART;VALUE=DATE:20190808
DESCRIPTION:Property ID# 458243\, Locatoin: Ray White\, 1st Floor\,  30 Bay
  Road\, Kilbirnie\, Time: 2:00PM
SUMMARY:Auction for 
END:VEVENT
END:VCALENDAR
