BEGIN:VCALENDAR
VERSION:2.0
PRODID:icalendar-ruby
CALSCALE:GREGORIAN
BEGIN:VEVENT
DTSTAMP:20260423T134322Z
UID:ab1c0c15-5844-4ff0-8307-73b39a25a62c
DTSTART;VALUE=DATE:20191023
DESCRIPTION:Property ID# 463441\, Locatoin: Khandallah Ofiice\, Time: 12:00
 PM
SUMMARY:Auction for 
END:VEVENT
END:VCALENDAR
