BEGIN:VCALENDAR
VERSION:2.0
PRODID:icalendar-ruby
CALSCALE:GREGORIAN
BEGIN:VEVENT
DTSTAMP:20260423T220017Z
UID:1359eb38-613e-4e15-b4ef-eb9d20fb71b4
DTSTART;VALUE=DATE:20191106
DESCRIPTION:Property ID# 463612\, Locatoin: Ray White\, 1st Floor\,  30 Bay
  Road\, Kilbirnie\, Time: 2:00PM
SUMMARY:Auction for 
END:VEVENT
END:VCALENDAR
