BEGIN:VCALENDAR
VERSION:2.0
PRODID:icalendar-ruby
CALSCALE:GREGORIAN
BEGIN:VEVENT
DTSTAMP:20260423T220103Z
UID:2725a7d5-91fd-48a4-9c1e-0f5e5834f310
DTSTART;VALUE=DATE:20200305
DESCRIPTION:Property ID# 472876\, Time: 3:30PM
SUMMARY:Auction for 
END:VEVENT
END:VCALENDAR
