BEGIN:VCALENDAR
VERSION:2.0
PRODID:icalendar-ruby
CALSCALE:GREGORIAN
BEGIN:VEVENT
DTSTAMP:20260423T214607Z
UID:dbc0e2f3-ecf2-4e14-8922-87ac4106cde3
DTSTART;VALUE=DATE:20201001
DESCRIPTION:Property ID# 490198\, Locatoin: 136 Karori Road\, Karori\, Well
 ington 6012\, Time: 12:00PM
SUMMARY:Auction for 
END:VEVENT
END:VCALENDAR
