BEGIN:VCALENDAR
VERSION:2.0
PRODID:icalendar-ruby
CALSCALE:GREGORIAN
BEGIN:VEVENT
DTSTAMP:20260424T001403Z
UID:8baba3a2-9518-43f0-872c-ae028d42c7b2
DTSTART;VALUE=DATE:20201211
DESCRIPTION:Property ID# 496224\, Locatoin: 1/77 Thorndon Quay\, Wellington
 \, Time: 3:00PM
SUMMARY:Auction for 
END:VEVENT
END:VCALENDAR
