BEGIN:VCALENDAR
VERSION:2.0
PRODID:icalendar-ruby
CALSCALE:GREGORIAN
BEGIN:VEVENT
DTSTAMP:20260424T001241Z
UID:dfb3a9e5-391d-4cc8-8442-732692b8563b
DTSTART;VALUE=DATE:20201216
DESCRIPTION:Property ID# 497504\, Locatoin: 1/77 Thorndon Quay\, Wellington
 \, Time: 1:00PM
SUMMARY:Auction for 
END:VEVENT
END:VCALENDAR
