BEGIN:VCALENDAR
VERSION:2.0
PRODID:icalendar-ruby
CALSCALE:GREGORIAN
BEGIN:VEVENT
DTSTAMP:20260424T001403Z
UID:0c576bf7-4d02-4c7f-aaf3-1da0afef791b
DTSTART;VALUE=DATE:20210210
DESCRIPTION:Property ID# 500321\, Locatoin: Ray White Thorndon\, Level 1\, 
 77 Thorndon Quay\, Wellington\, Time: 12:00PM
SUMMARY:Auction for 
END:VEVENT
END:VCALENDAR
