BEGIN:VCALENDAR
VERSION:2.0
PRODID:icalendar-ruby
CALSCALE:GREGORIAN
BEGIN:VEVENT
DTSTAMP:20260423T193020Z
UID:397c18f6-8e31-4839-aa5f-f3471c66dd86
DTSTART;VALUE=DATE:20210924
DESCRIPTION:Property ID# 516230\, Locatoin: Harcourts Wellington City Offic
 e (unless sold prior)\, Time: 5:00PM
SUMMARY:Auction for 
END:VEVENT
END:VCALENDAR
