BEGIN:VCALENDAR
VERSION:2.0
PRODID:icalendar-ruby
CALSCALE:GREGORIAN
BEGIN:VEVENT
DTSTAMP:20260423T194457Z
UID:14b630f6-6517-4ff9-b635-9c399307dd26
DTSTART;VALUE=DATE:20221221
DESCRIPTION:Property ID# 548517\, Locatoin: Harcourts Wellington City Offic
 e (unless sold prior)\, Time: 3:00PM
SUMMARY:Auction for 
END:VEVENT
END:VCALENDAR
