BEGIN:VCALENDAR
VERSION:2.0
PRODID:icalendar-ruby
CALSCALE:GREGORIAN
BEGIN:VEVENT
DTSTAMP:20260421T113508Z
UID:7f8854c0-04f2-4735-9600-992fe87ca637
DTSTART;VALUE=DATE:20230216
DESCRIPTION:Property ID# 551332\, Locatoin: L1/77 Thorndon Quay\, Time: 2:0
 0PM
SUMMARY:Auction for 
END:VEVENT
END:VCALENDAR
