BEGIN:VCALENDAR
VERSION:2.0
PRODID:icalendar-ruby
CALSCALE:GREGORIAN
BEGIN:VEVENT
DTSTAMP:20260425T221519Z
UID:014297cb-5047-4e04-a339-ba2278cb3796
DTSTART;VALUE=DATE:20230316
DESCRIPTION:Property ID# 552421\, Locatoin: 176 Main Road\, Tawa\, Time: 3:
 00PM
SUMMARY:Auction for 
END:VEVENT
END:VCALENDAR
