BEGIN:VCALENDAR
VERSION:2.0
PRODID:icalendar-ruby
CALSCALE:GREGORIAN
BEGIN:VEVENT
DTSTAMP:20260426T011805Z
UID:d3888b80-63cb-47b4-869d-2761a84bad63
DTSTART;VALUE=DATE:20230322
DESCRIPTION:Property ID# 552812\, Locatoin: 176 Main Road\, Tawa\, Time: 1:
 00PM
SUMMARY:Auction for 
END:VEVENT
END:VCALENDAR
