BEGIN:VCALENDAR
VERSION:2.0
PRODID:icalendar-ruby
CALSCALE:GREGORIAN
BEGIN:VEVENT
DTSTAMP:20260426T011720Z
UID:0c4c6de5-7f11-48de-945d-0e3a65e1270c
DTSTART;VALUE=DATE:20230420
DESCRIPTION:Property ID# 554125\, Locatoin: 176 Main Road\, Tawa\, Time: 1:
 00PM
SUMMARY:Auction for 
END:VEVENT
END:VCALENDAR
