BEGIN:VCALENDAR
VERSION:2.0
PRODID:icalendar-ruby
CALSCALE:GREGORIAN
BEGIN:VEVENT
DTSTAMP:20260423T192441Z
UID:26b28a8f-79cc-4f32-8665-6cf934351119
DTSTART;VALUE=DATE:20230707
DESCRIPTION:Property ID# 558368\, Locatoin: Harcourts Wellington City Offic
 e (Unless Sold Prior)\, Time: 12:00PM
SUMMARY:Auction for 
END:VEVENT
END:VCALENDAR
