BEGIN:VCALENDAR
VERSION:2.0
PRODID:icalendar-ruby
CALSCALE:GREGORIAN
BEGIN:VEVENT
DTSTAMP:20260424T001209Z
UID:fe7cb2ef-f51a-4b03-bef9-2b745089f82a
DTSTART;VALUE=DATE:20240424
DESCRIPTION:Property ID# 573064\, Locatoin: 1/77 Thorndon Quay\, Thorndon. 
 \, Time: 12:00PM
SUMMARY:Auction for 
END:VEVENT
END:VCALENDAR
