BEGIN:VCALENDAR
VERSION:2.0
PRODID:icalendar-ruby
CALSCALE:GREGORIAN
BEGIN:VEVENT
DTSTAMP:20260421T123104Z
UID:e2bef195-b193-4c8e-9d8d-18ceaad8980c
DTSTART;VALUE=DATE:20241129
DESCRIPTION:Property ID# 583450\, Locatoin: Harcourts Wellington City Offic
 e\, 57 Vivian St Te Aro 6011\, Time: 12:00PM
SUMMARY:Auction for 
END:VEVENT
END:VCALENDAR
