BEGIN:VCALENDAR
VERSION:2.0
PRODID:icalendar-ruby
CALSCALE:GREGORIAN
BEGIN:VEVENT
DTSTAMP:20260423T193417Z
UID:ad1cf4bd-5890-4f90-b8ce-f304f0d83bb7
DTSTART;VALUE=DATE:20250502
DESCRIPTION:Property ID# 591206\, Locatoin: Harcourts Wellington City Offic
 e at 57 Vivian Street\, Te Aro\, Wellington 6011\, Time: 12:00PM
SUMMARY:Auction for 
END:VEVENT
END:VCALENDAR
