BEGIN:VCALENDAR
VERSION:2.0
PRODID:icalendar-ruby
CALSCALE:GREGORIAN
BEGIN:VEVENT
DTSTAMP:20260421T090501Z
UID:8e6c4ac1-8f76-4f45-b0e2-1e5bb4de1596
DTSTART;VALUE=DATE:20251119
DESCRIPTION:Property ID# 599844\, Locatoin: 21 Ganges Road\, Khandallah\, T
 ime: 12:00PM
SUMMARY:Auction for 
END:VEVENT
END:VCALENDAR
